BEGIN:VCALENDAR
VERSION:2.0
PRODID:-//Sunset River Gallery - ECPv6.15.20//NONSGML v1.0//EN
CALSCALE:GREGORIAN
METHOD:PUBLISH
X-ORIGINAL-URL:https://www.sunsetrivergallery.com
X-WR-CALDESC:Events for Sunset River Gallery
REFRESH-INTERVAL;VALUE=DURATION:PT1H
X-Robots-Tag:noindex
X-PUBLISHED-TTL:PT1H
BEGIN:VTIMEZONE
TZID:America/New_York
BEGIN:DAYLIGHT
TZOFFSETFROM:-0500
TZOFFSETTO:-0400
TZNAME:EDT
DTSTART:20230312T070000
END:DAYLIGHT
BEGIN:STANDARD
TZOFFSETFROM:-0400
TZOFFSETTO:-0500
TZNAME:EST
DTSTART:20231105T060000
END:STANDARD
BEGIN:DAYLIGHT
TZOFFSETFROM:-0500
TZOFFSETTO:-0400
TZNAME:EDT
DTSTART:20240310T070000
END:DAYLIGHT
BEGIN:STANDARD
TZOFFSETFROM:-0400
TZOFFSETTO:-0500
TZNAME:EST
DTSTART:20241103T060000
END:STANDARD
BEGIN:DAYLIGHT
TZOFFSETFROM:-0500
TZOFFSETTO:-0400
TZNAME:EDT
DTSTART:20250309T070000
END:DAYLIGHT
BEGIN:STANDARD
TZOFFSETFROM:-0400
TZOFFSETTO:-0500
TZNAME:EST
DTSTART:20251102T060000
END:STANDARD
END:VTIMEZONE
BEGIN:VEVENT
DTSTART;TZID=America/New_York:20240916T110000
DTEND;TZID=America/New_York:20241102T170000
DTSTAMP:20260421T051004
CREATED:20240828T202614Z
LAST-MODIFIED:20240828T202716Z
UID:23058-1726484400-1730566800@www.sunsetrivergallery.com
SUMMARY:Mary Welch Austin named Spotlight Artist Sept. 16 - Nov. 2
DESCRIPTION:North Carolina artist Mary Welch Austin is being featured at Sunset River Gallery in Calabash\, NC as the Spotlight Artist from Sept. 16 through Nov.  2. She  has a keen appreciation for the magic of light and texture and the compositional dance of positive and negative spaces in nature.  Her acrylic and oil paintings are the product of much exposure to the fine arts and a great deal of ‘moving about’ in a busy and certainly happy life.  Her works express the artist’s sense of harmony and balance. Mary’s award-winning paintings showcase the variety of coastal and inland scenes characteristic of the Carolina lowcountry region. Private collectors and designers are discovering the majesty of Austin’s land and waterscapes; her large works take centerstage in homes throughout the region. We would love to show you her landscapes and seascapes. They will take your breath away.
URL:https://www.sunsetrivergallery.com/event/mary-welch-austin-named-spotlight-artist-sept-16-nov-2/
ATTACH;FMTTYPE=image/jpeg:https://www.sunsetrivergallery.com/wp-content/uploads/2023/01/WelchAustinM_TheClearing-770x500-1.jpg
END:VEVENT
END:VCALENDAR