BEGIN:VCALENDAR
VERSION:2.0
PRODID:-//Sunset River Gallery - ECPv6.15.20//NONSGML v1.0//EN
CALSCALE:GREGORIAN
METHOD:PUBLISH
X-WR-CALNAME:Sunset River Gallery
X-ORIGINAL-URL:https://www.sunsetrivergallery.com
X-WR-CALDESC:Events for Sunset River Gallery
REFRESH-INTERVAL;VALUE=DURATION:PT1H
X-Robots-Tag:noindex
X-PUBLISHED-TTL:PT1H
BEGIN:VTIMEZONE
TZID:UTC
BEGIN:STANDARD
TZOFFSETFROM:+0000
TZOFFSETTO:+0000
TZNAME:UTC
DTSTART:20210101T000000
END:STANDARD
END:VTIMEZONE
BEGIN:VEVENT
DTSTART;TZID=UTC:20220716T100000
DTEND;TZID=UTC:20220716T150000
DTSTAMP:20260420T172348
CREATED:20220621T220908Z
LAST-MODIFIED:20220621T220908Z
UID:19609-1657965600-1657983600@www.sunsetrivergallery.com
SUMMARY:Abstract Workshop w/Cristiana Rioli
DESCRIPTION:Abstract art is about expression. In this one-day workshop you will learn to listen your instinct and create two beautiful miniature abstract paintings. \nWe will start your creative journey by scribbling on 6- by 6-inch wood boards with different mark making tools. We will add a little bit of collage using bleeding tissue paper and we will then apply multiple layers of acrylics to create dimension and transparency. Final accent will be added with soft and oil pastels. This is an exciting project for both experienced artists and novices. You do not need any previous experience to join us. Bring your creativity and curiosity! Cost is $95. Stop by or call the gallery at 910.575.5999 to register. \nArtist’s Statement: Painting is my therapy. As humans\, we need to analyze\, organize and understand our emotions and fears\, and using a canvas as a vehicle for introspection is particularly effective to me. My art is based on love\, acceptance\, and forgiveness. I use my inner voice and feelings to paint. Through them\, I project my inspirations and forge the perfect balance of colors\, shapes\, and lights.
URL:https://www.sunsetrivergallery.com/event/abstract-workshop-w-cristiana-rioli/
ATTACH;FMTTYPE=image/jpeg:https://www.sunsetrivergallery.com/wp-content/uploads/2022/06/rioli-urban-landscape-II-6x6-1.jpg
END:VEVENT
BEGIN:VEVENT
DTSTART;TZID=UTC:20220714T110000
DTEND;TZID=UTC:20220714T120000
DTSTAMP:20260420T172348
CREATED:20220701T025040Z
LAST-MODIFIED:20220701T025040Z
UID:19618-1657796400-1657800000@www.sunsetrivergallery.com
SUMMARY:Coffee With the Authors - Teri M. Brown
DESCRIPTION:Born in Athens\, Greece as an Air Force brat\, Teri M. Brown is not one to let grass grow under her feet. In 2020\, she and her husband rode a tandem bike from Astoria\, Oregon to Washington\, DC raising money for Toys for Tots. She has earned honors for both her fiction and nonfiction writing. Set in Soviet Ukraine\, Sunflowers Under the Snow is a testament to the strength of women who rise to the moment despite their circumstances. Coffee With the Authors is a free event\, but seating is limited so the gallery asks that you call 910.575.5999 to hold your spot.
URL:https://www.sunsetrivergallery.com/event/coffee-with-the-authors-teri-m-brown/
ATTACH;FMTTYPE=image/jpeg:https://www.sunsetrivergallery.com/wp-content/uploads/2022/06/author-teri-m-brown.jpg
END:VEVENT
BEGIN:VEVENT
DTSTART;TZID=UTC:20220713T110000
DTEND;TZID=UTC:20220820T170000
DTSTAMP:20260420T172348
CREATED:20220701T031339Z
LAST-MODIFIED:20220801T225646Z
UID:19626-1657710000-1661014800@www.sunsetrivergallery.com
SUMMARY:Beach Dreaming Exhibit
DESCRIPTION:Beach Dreaming\nJuly 13 – August 20\, 2022\nJust Extended!\n\nHere in the Carolinas\, Summer means Beach  and our gallery visitors can’t get enough\, so this exhibit is all about heading to the beach on a hot summer day – the crowds\, the dunes\, the salt air. Come on by to get your beach fix.The group show features work by Connie Winters\, Carol Iglesias\, Rachel Sunnell\, Sharon C. Jones\, Nancy Hughes Miller\, Ortrud Tyler\, Vicki Neilon\, Janet Sessoms\, William West and Linda Karaskevicus.\n\nGallery hours are 11 – 5\, Monday – Saturday. We’re located at 10283 Beach Drive SW (NC 179) in Calabash\, NC. 910.575.5999.
URL:https://www.sunsetrivergallery.com/event/beach-dreaming-exhibit/
END:VEVENT
END:VCALENDAR