BEGIN:VCALENDAR
VERSION:2.0
PRODID:-//Sunset River Gallery - ECPv6.15.20//NONSGML v1.0//EN
CALSCALE:GREGORIAN
METHOD:PUBLISH
X-ORIGINAL-URL:https://www.sunsetrivergallery.com
X-WR-CALDESC:Events for Sunset River Gallery
REFRESH-INTERVAL;VALUE=DURATION:PT1H
X-Robots-Tag:noindex
X-PUBLISHED-TTL:PT1H
BEGIN:VTIMEZONE
TZID:America/New_York
BEGIN:DAYLIGHT
TZOFFSETFROM:-0500
TZOFFSETTO:-0400
TZNAME:EDT
DTSTART:20250309T070000
END:DAYLIGHT
BEGIN:STANDARD
TZOFFSETFROM:-0400
TZOFFSETTO:-0500
TZNAME:EST
DTSTART:20251102T060000
END:STANDARD
BEGIN:DAYLIGHT
TZOFFSETFROM:-0500
TZOFFSETTO:-0400
TZNAME:EDT
DTSTART:20260308T070000
END:DAYLIGHT
BEGIN:STANDARD
TZOFFSETFROM:-0400
TZOFFSETTO:-0500
TZNAME:EST
DTSTART:20261101T060000
END:STANDARD
BEGIN:DAYLIGHT
TZOFFSETFROM:-0500
TZOFFSETTO:-0400
TZNAME:EDT
DTSTART:20270314T070000
END:DAYLIGHT
BEGIN:STANDARD
TZOFFSETFROM:-0400
TZOFFSETTO:-0500
TZNAME:EST
DTSTART:20271107T060000
END:STANDARD
END:VTIMEZONE
BEGIN:VEVENT
DTSTART;TZID=America/New_York:20261113T110000
DTEND;TZID=America/New_York:20261115T170000
DTSTAMP:20260419T152526
CREATED:20260131T164948Z
LAST-MODIFIED:20260131T164948Z
UID:24392-1794567600-1794762000@www.sunsetrivergallery.com
SUMMARY:Holiday Art Market
DESCRIPTION:Sunset River Gallery in Calabash\, NC is set to hold its 12th annual Holiday Art Market from Friday\, Nov. 13– Sunday\, Nov. 17\, 2025\, from 11 a.m. to 5 p.m. each of the three days. Over 30 popular artists are being featured to include Holiday pottery\, jewelry\, oil paintings\, acrylics\, watercolors\, home decor items\, photography\, turned wood\, handmade furniture and more. An eight-foot Christmas tree will be filled with artisan-made ornaments\, so customers can choose their favorites directly from the tree. There will also be free gift certificate drawings\, holiday treats\, refreshments\, and hot mulled cider. Check back for more details!
URL:https://www.sunsetrivergallery.com/event/holiday-art-market/
ATTACH;FMTTYPE=image/jpeg:https://www.sunsetrivergallery.com/wp-content/uploads/2026/01/Holiday-Art-Market-mantel-web.jpg
END:VEVENT
END:VCALENDAR