BEGIN:VCALENDAR
VERSION:2.0
PRODID:-//Sunset River Gallery - ECPv6.15.20//NONSGML v1.0//EN
CALSCALE:GREGORIAN
METHOD:PUBLISH
X-ORIGINAL-URL:https://www.sunsetrivergallery.com
X-WR-CALDESC:Events for Sunset River Gallery
REFRESH-INTERVAL;VALUE=DURATION:PT1H
X-Robots-Tag:noindex
X-PUBLISHED-TTL:PT1H
BEGIN:VTIMEZONE
TZID:America/New_York
BEGIN:DAYLIGHT
TZOFFSETFROM:-0500
TZOFFSETTO:-0400
TZNAME:EDT
DTSTART:20250309T070000
END:DAYLIGHT
BEGIN:STANDARD
TZOFFSETFROM:-0400
TZOFFSETTO:-0500
TZNAME:EST
DTSTART:20251102T060000
END:STANDARD
BEGIN:DAYLIGHT
TZOFFSETFROM:-0500
TZOFFSETTO:-0400
TZNAME:EDT
DTSTART:20260308T070000
END:DAYLIGHT
BEGIN:STANDARD
TZOFFSETFROM:-0400
TZOFFSETTO:-0500
TZNAME:EST
DTSTART:20261101T060000
END:STANDARD
BEGIN:DAYLIGHT
TZOFFSETFROM:-0500
TZOFFSETTO:-0400
TZNAME:EDT
DTSTART:20270314T070000
END:DAYLIGHT
BEGIN:STANDARD
TZOFFSETFROM:-0400
TZOFFSETTO:-0500
TZNAME:EST
DTSTART:20271107T060000
END:STANDARD
END:VTIMEZONE
BEGIN:VEVENT
DTSTART;TZID=America/New_York:20260717T110000
DTEND;TZID=America/New_York:20260719T170000
DTSTAMP:20260420T013003
CREATED:20260131T164055Z
LAST-MODIFIED:20260131T164535Z
UID:24388-1784286000-1784480400@www.sunsetrivergallery.com
SUMMARY:Summer Art Market
DESCRIPTION:The gallery will hold its annual Summer Art Market – extended to three days this year – from Friday\, July 17 through Sunday\, July 19. It will feature artwork by the 100+ local and regional artists who exhibit here at Sunset River Gallery\, many of whom will be bring in unique pieces especially for the Market. Featured artwork will include pottery\, paintings\, fused and stained glass\, hand-sewn pillows\, turned wood\, hand-crafted furniture\, photography\, basketry\, fibers art and more. There will also be art demonstrations including pottery and painting. More details will be posted as we have them.
URL:https://www.sunsetrivergallery.com/event/summer-art-market-3/
ATTACH;FMTTYPE=image/jpeg:https://www.sunsetrivergallery.com/wp-content/uploads/2026/01/SummerArtMarket-logo-web.jpg
END:VEVENT
END:VCALENDAR