BEGIN:VCALENDAR
VERSION:2.0
PRODID:-//Sunset River Gallery - ECPv6.15.20//NONSGML v1.0//EN
CALSCALE:GREGORIAN
METHOD:PUBLISH
X-ORIGINAL-URL:https://www.sunsetrivergallery.com
X-WR-CALDESC:Events for Sunset River Gallery
REFRESH-INTERVAL;VALUE=DURATION:PT1H
X-Robots-Tag:noindex
X-PUBLISHED-TTL:PT1H
BEGIN:VTIMEZONE
TZID:America/New_York
BEGIN:DAYLIGHT
TZOFFSETFROM:-0500
TZOFFSETTO:-0400
TZNAME:EDT
DTSTART:20230312T070000
END:DAYLIGHT
BEGIN:STANDARD
TZOFFSETFROM:-0400
TZOFFSETTO:-0500
TZNAME:EST
DTSTART:20231105T060000
END:STANDARD
BEGIN:DAYLIGHT
TZOFFSETFROM:-0500
TZOFFSETTO:-0400
TZNAME:EDT
DTSTART:20240310T070000
END:DAYLIGHT
BEGIN:STANDARD
TZOFFSETFROM:-0400
TZOFFSETTO:-0500
TZNAME:EST
DTSTART:20241103T060000
END:STANDARD
BEGIN:DAYLIGHT
TZOFFSETFROM:-0500
TZOFFSETTO:-0400
TZNAME:EDT
DTSTART:20250309T070000
END:DAYLIGHT
BEGIN:STANDARD
TZOFFSETFROM:-0400
TZOFFSETTO:-0500
TZNAME:EST
DTSTART:20251102T060000
END:STANDARD
END:VTIMEZONE
BEGIN:VEVENT
DTSTART;TZID=America/New_York:20240509T110000
DTEND;TZID=America/New_York:20240509T120000
DTSTAMP:20260421T102313
CREATED:20240421T154103Z
LAST-MODIFIED:20240421T154103Z
UID:22650-1715252400-1715256000@www.sunsetrivergallery.com
SUMMARY:Coffee With the Authors - E.L. Boyer
DESCRIPTION:Coffee With the Authors\nThursday\, May 9\, 11 am – 12 noon\nE.L. Boyer (“A Lie More Real than Truth”)\nLiz Boyer worked as a registered nurse for 25 years before turning to literary pursuits. This is a work of fiction\, however\, the author’s curiosity about missing people spurred her to examine the possibility that a person could disappear and make a new life for herself. \nAuthor Statement:“I attended Georgia State College as an English major. But medicine was my calling and I am very happy I had all of those years as a nurse. For five years I worked for a medical management company and was director of operations  for three years. Then my husband retired and we moved to the coastal Carolina area. I enjoy playing golf\, Mah Jongg\, but most of all reading. I served as secretary for the local art council for 7 years and really enjoyed getting to know more about the art community. There are many artists and writers in the area I live in and they are extremely talented. The coastal area brings out one’s creativity. In 2020\, I developed a syndrome known as Burning Mouth. It is exactly what it is named\, the mouth burns constantly. I am in a couple of Facebook groups about it and the stories are sad but informative. I pray for all of those that are suffering with this syndrome. The hope is there will be a cure one day but there are so few people with it that it does not get the funding other more serious diseases receive and deserve. Writing helps divert my attention from this malady and I find comfort in creating characters and scenarios.” \nCoffee with the Authors is a free event at Sunset River Gallery in Calabash\, NC\, but seating is limited. Please RSVP to 910.575.5999. Coffee\, tea\, and breakfast treats will be served.
URL:https://www.sunsetrivergallery.com/event/coffee-with-the-authors-e-l-boyer/
CATEGORIES:Coffee with the Authors
ATTACH;FMTTYPE=image/jpeg:https://www.sunsetrivergallery.com/wp-content/uploads/2024/04/boyer-books.jpg
END:VEVENT
END:VCALENDAR