BEGIN:VCALENDAR
VERSION:2.0
PRODID:-//Sunset River Gallery - ECPv6.15.20//NONSGML v1.0//EN
CALSCALE:GREGORIAN
METHOD:PUBLISH
X-WR-CALNAME:Sunset River Gallery
X-ORIGINAL-URL:https://www.sunsetrivergallery.com
X-WR-CALDESC:Events for Sunset River Gallery
REFRESH-INTERVAL;VALUE=DURATION:PT1H
X-Robots-Tag:noindex
X-PUBLISHED-TTL:PT1H
BEGIN:VTIMEZONE
TZID:America/New_York
BEGIN:DAYLIGHT
TZOFFSETFROM:-0500
TZOFFSETTO:-0400
TZNAME:EDT
DTSTART:20240310T070000
END:DAYLIGHT
BEGIN:STANDARD
TZOFFSETFROM:-0400
TZOFFSETTO:-0500
TZNAME:EST
DTSTART:20241103T060000
END:STANDARD
BEGIN:DAYLIGHT
TZOFFSETFROM:-0500
TZOFFSETTO:-0400
TZNAME:EDT
DTSTART:20250309T070000
END:DAYLIGHT
BEGIN:STANDARD
TZOFFSETFROM:-0400
TZOFFSETTO:-0500
TZNAME:EST
DTSTART:20251102T060000
END:STANDARD
BEGIN:DAYLIGHT
TZOFFSETFROM:-0500
TZOFFSETTO:-0400
TZNAME:EDT
DTSTART:20260308T070000
END:DAYLIGHT
BEGIN:STANDARD
TZOFFSETFROM:-0400
TZOFFSETTO:-0500
TZNAME:EST
DTSTART:20261101T060000
END:STANDARD
END:VTIMEZONE
BEGIN:VEVENT
DTSTART;TZID=America/New_York:20250823T170000
DTEND;TZID=America/New_York:20250823T190000
DTSTAMP:20260421T182746
CREATED:20250728T152341Z
LAST-MODIFIED:20250728T153138Z
UID:23727-1755968400-1755975600@www.sunsetrivergallery.com
SUMMARY:Chantal Tomiello Reception - Dreaming in Color
DESCRIPTION:We’re excited to have Chantal Tomiello back with more of her stunning work\, including two nine-foot acrylic paintings. This latest series\, The Shape of Light: Dreaming in Color\, is made up primarily of landscapes that feature her distinctive trees\, water\, and luminous skies. She says\, “I’m drawn to those elements because they hold so much stillness and movement at once. I’m not trying to capture a specific place. It’s more about what it feels like to really be in a moment. Present. Aware. Quiet. I think there’s magic in that kind of presence—in the way light changes\, or how a line leans just enough to make you pause. These paintings are a space where tension and serenity meet.”  The show runs from Saturday\, August 23 through Saturday Sept. 27. An opening reception is slated for the 23rd. from 5-7 p.m. Light hors d’oeuvres and refreshments will be served. There is no charge and reservations are not required. Please join us!
URL:https://www.sunsetrivergallery.com/event/chantal-tomiello-reception-dreaming-in-color/
ATTACH;FMTTYPE=image/jpeg:https://www.sunsetrivergallery.com/wp-content/uploads/2025/07/Chantal-2025-web-event.jpg
END:VEVENT
END:VCALENDAR