BEGIN:VCALENDAR
VERSION:2.0
PRODID:-//Sunset River Gallery - ECPv6.15.20//NONSGML v1.0//EN
CALSCALE:GREGORIAN
METHOD:PUBLISH
X-ORIGINAL-URL:https://www.sunsetrivergallery.com
X-WR-CALDESC:Events for Sunset River Gallery
REFRESH-INTERVAL;VALUE=DURATION:PT1H
X-Robots-Tag:noindex
X-PUBLISHED-TTL:PT1H
BEGIN:VTIMEZONE
TZID:America/New_York
BEGIN:DAYLIGHT
TZOFFSETFROM:-0500
TZOFFSETTO:-0400
TZNAME:EDT
DTSTART:20240310T070000
END:DAYLIGHT
BEGIN:STANDARD
TZOFFSETFROM:-0400
TZOFFSETTO:-0500
TZNAME:EST
DTSTART:20241103T060000
END:STANDARD
BEGIN:DAYLIGHT
TZOFFSETFROM:-0500
TZOFFSETTO:-0400
TZNAME:EDT
DTSTART:20250309T070000
END:DAYLIGHT
BEGIN:STANDARD
TZOFFSETFROM:-0400
TZOFFSETTO:-0500
TZNAME:EST
DTSTART:20251102T060000
END:STANDARD
BEGIN:DAYLIGHT
TZOFFSETFROM:-0500
TZOFFSETTO:-0400
TZNAME:EDT
DTSTART:20260308T070000
END:DAYLIGHT
BEGIN:STANDARD
TZOFFSETFROM:-0400
TZOFFSETTO:-0500
TZNAME:EST
DTSTART:20261101T060000
END:STANDARD
END:VTIMEZONE
BEGIN:VEVENT
DTSTART;TZID=America/New_York:20250514T173000
DTEND;TZID=America/New_York:20250514T193000
DTSTAMP:20260420T165038
CREATED:20250417T160847Z
LAST-MODIFIED:20250417T170624Z
UID:23549-1747243800-1747251000@www.sunsetrivergallery.com
SUMMARY:Paint & Party - Beach Chair
DESCRIPTION:This is one you won’t want to miss. Ginny will walk you through this charming acrylic of a beach chair at the water’s edge. Come with your best pals! Or don’t be afraid to come solo. You’ll make new friends! Bring a beverage and snack if you like. Gallery provides everything else — paints\, brushes\, canvases\, aprons\, and any other supplies. See you. then! $35 non-refundable. \nSign up here!
URL:https://www.sunsetrivergallery.com/event/paint-party-beach-chair/
CATEGORIES:Paint & Party
ATTACH;FMTTYPE=image/jpeg:https://www.sunsetrivergallery.com/wp-content/uploads/2025/04/PP-BeachChair.jpg
END:VEVENT
END:VCALENDAR