BEGIN:VCALENDAR
VERSION:2.0
PRODID:-//Sunset River Gallery - ECPv6.15.20//NONSGML v1.0//EN
CALSCALE:GREGORIAN
METHOD:PUBLISH
X-WR-CALNAME:Sunset River Gallery
X-ORIGINAL-URL:https://www.sunsetrivergallery.com
X-WR-CALDESC:Events for Sunset River Gallery
REFRESH-INTERVAL;VALUE=DURATION:PT1H
X-Robots-Tag:noindex
X-PUBLISHED-TTL:PT1H
BEGIN:VTIMEZONE
TZID:America/New_York
BEGIN:DAYLIGHT
TZOFFSETFROM:-0500
TZOFFSETTO:-0400
TZNAME:EDT
DTSTART:20240310T070000
END:DAYLIGHT
BEGIN:STANDARD
TZOFFSETFROM:-0400
TZOFFSETTO:-0500
TZNAME:EST
DTSTART:20241103T060000
END:STANDARD
BEGIN:DAYLIGHT
TZOFFSETFROM:-0500
TZOFFSETTO:-0400
TZNAME:EDT
DTSTART:20250309T070000
END:DAYLIGHT
BEGIN:STANDARD
TZOFFSETFROM:-0400
TZOFFSETTO:-0500
TZNAME:EST
DTSTART:20251102T060000
END:STANDARD
BEGIN:DAYLIGHT
TZOFFSETFROM:-0500
TZOFFSETTO:-0400
TZNAME:EDT
DTSTART:20260308T070000
END:DAYLIGHT
BEGIN:STANDARD
TZOFFSETFROM:-0400
TZOFFSETTO:-0500
TZNAME:EST
DTSTART:20261101T060000
END:STANDARD
END:VTIMEZONE
BEGIN:VEVENT
DTSTART;TZID=America/New_York:20250716T173000
DTEND;TZID=America/New_York:20250716T193000
DTSTAMP:20260420T132313
CREATED:20250627T160152Z
LAST-MODIFIED:20250715T163851Z
UID:23687-1752687000-1752694200@www.sunsetrivergallery.com
SUMMARY:Paint & Party - Pop Art Popsicle - Cancelled
DESCRIPTION:We’re so excited for this one! We’ll be creating a stylized popsicle on a very cool skinny canvas! This will be so much fun and they’ll look great. Samantha will help you with colors and getting the effect you want. Be fearless and join us! The gallery supplies everything – canvases\, paints\, brushes\, aprons. All you bring is your snack and a beverage if you want. Let’s take a bite out of this piece! $35 per person. Non-refundable. \nSign up here!
URL:https://www.sunsetrivergallery.com/event/paint-party-pop-art-popsicle/
CATEGORIES:Paint & Party
ATTACH;FMTTYPE=image/jpeg:https://www.sunsetrivergallery.com/wp-content/uploads/2025/06/PP-Popsicle-square.jpg
END:VEVENT
END:VCALENDAR