BEGIN:VCALENDAR
VERSION:2.0
PRODID:-//Sunset River Gallery - ECPv6.15.20//NONSGML v1.0//EN
CALSCALE:GREGORIAN
METHOD:PUBLISH
X-ORIGINAL-URL:https://www.sunsetrivergallery.com
X-WR-CALDESC:Events for Sunset River Gallery
REFRESH-INTERVAL;VALUE=DURATION:PT1H
X-Robots-Tag:noindex
X-PUBLISHED-TTL:PT1H
BEGIN:VTIMEZONE
TZID:America/New_York
BEGIN:DAYLIGHT
TZOFFSETFROM:-0500
TZOFFSETTO:-0400
TZNAME:EDT
DTSTART:20250309T070000
END:DAYLIGHT
BEGIN:STANDARD
TZOFFSETFROM:-0400
TZOFFSETTO:-0500
TZNAME:EST
DTSTART:20251102T060000
END:STANDARD
BEGIN:DAYLIGHT
TZOFFSETFROM:-0500
TZOFFSETTO:-0400
TZNAME:EDT
DTSTART:20260308T070000
END:DAYLIGHT
BEGIN:STANDARD
TZOFFSETFROM:-0400
TZOFFSETTO:-0500
TZNAME:EST
DTSTART:20261101T060000
END:STANDARD
BEGIN:DAYLIGHT
TZOFFSETFROM:-0500
TZOFFSETTO:-0400
TZNAME:EDT
DTSTART:20270314T070000
END:DAYLIGHT
BEGIN:STANDARD
TZOFFSETFROM:-0400
TZOFFSETTO:-0500
TZNAME:EST
DTSTART:20271107T060000
END:STANDARD
END:VTIMEZONE
BEGIN:VEVENT
DTSTART;TZID=America/New_York:20260121T173000
DTEND;TZID=America/New_York:20260121T193000
DTSTAMP:20260420T014906
CREATED:20251215T190606Z
LAST-MODIFIED:20251216T172459Z
UID:24273-1769016600-1769023800@www.sunsetrivergallery.com
SUMMARY:Paint & Party - Collage Wave
DESCRIPTION:Our first Paint & Party class for 2026 will be this creative Collage Wave\, a brand new design – and one you won’t want to miss! Samantha will walk you through every step and you’ll go home with a great piece! As always\, all you need to bring is your fun-loving self and any snack or beverage you may want. The gallery supplies everything else – paints\, canvases\, brushes\, paper\, glue\, and aprons. We can’t wait to see you. $35\, non-refundable. \nSign up here!
URL:https://www.sunsetrivergallery.com/event/paint-party-collage-wave/
CATEGORIES:Paint & Party
ATTACH;FMTTYPE=image/jpeg:https://www.sunsetrivergallery.com/wp-content/uploads/2025/12/Collage-Wave-PP-web.jpg
END:VEVENT
END:VCALENDAR